BEGIN:VCALENDAR
VERSION:2.0
PRODID:-//wp-events-plugin.com//7.2.3.1//EN
BEGIN:VEVENT
UID:249@vip-dive-center.de
DTSTART:20260314T073000Z
DTEND:20260314T073000Z
DTSTAMP:20260227T114213Z
URL:https://www.vip-dive-center.de/events/tauchtauglichkeitsuntersuchung-0
 1-26/
SUMMARY:Tauchtauglichkeitsuntersuchung 01-26
DESCRIPTION:Tauchtauglichkeitsuntersuchung für günstige 35€
ATTACH;FMTTYPE=image/jpeg:https://www.vip-dive-center.de/wp-content/upload
 s/2026/01/Zeichenflaeche-11icons.png
LOCATION:VIP Dive Center\, Kopernikusstrasse 156 a\, Köln\, NRW\, 51065\, 
 Deutschland
X-APPLE-STRUCTURED-LOCATION;VALUE=URI;X-ADDRESS=Kopernikusstrasse 156 a\, K
 öln\, NRW\, 51065\, Deutschland;X-APPLE-RADIUS=100;X-TITLE=VIP Dive Cente
 r:geo:0,0
END:VEVENT
END:VCALENDAR