BEGIN:VCALENDAR
VERSION:2.0
PRODID:-//wp-events-plugin.com//7.2.3.1//EN
BEGIN:VEVENT
UID:240@vip-dive-center.de
DTSTART;VALUE=DATE:20260225
DTEND;VALUE=DATE:20260226
DTSTAMP:20260214T134836Z
URL:https://www.vip-dive-center.de/events/schnuppertauchen-226/
SUMMARY:Schnuppertauchen 226
DESCRIPTION:Erlebe dein erstes Abenteuer unter Wasser mit einem Schnupperta
 uchgang in Köln. Keine Vorkenntnisse nötig – nur Neugier und Lust aufs
  Abtauchen!
ATTACH;FMTTYPE=image/jpeg:https://www.vip-dive-center.de/wp-content/upload
 s/2026/01/AdobeStock_548909824-edited-1-scaled.jpeg
LOCATION:VIP Dive Center\, Kopernikusstrasse 156 a\, Köln\, NRW\, 51065\, 
 Deutschland
X-APPLE-STRUCTURED-LOCATION;VALUE=URI;X-ADDRESS=Kopernikusstrasse 156 a\, K
 öln\, NRW\, 51065\, Deutschland;X-APPLE-RADIUS=100;X-TITLE=VIP Dive Cente
 r:geo:0,0
END:VEVENT
END:VCALENDAR