BEGIN:VCALENDAR
VERSION:2.0
PRODID:-//wp-events-plugin.com//7.2.3.1//EN
BEGIN:VEVENT
UID:154@vip-dive-center.de
DTSTART:20210704T220000Z
DTEND:20210807T220000Z
DTSTAMP:20210530T075704Z
URL:https://www.vip-dive-center.de/events/open-water-diver-4/
SUMMARY:Open Water Diver
DESCRIPTION:Der Open Water Diver ist deine Eintrittskarte zu allen Tauchbas
 en dieser Welt. Lerne in entspannter Atmosphäre Tauchen. In diesem Tauchk
 urs vermitteln wir alle wichtigen Basics\, um sicher Tauchen zu gehen.
CATEGORIES:Nächste Veranstaltungen
LOCATION:Hitdorfer See\, Umlag 1\, Leverkusen\, NRW\, 51371\, Deutschland
GEO:51.07029;6.93137999999999
X-APPLE-STRUCTURED-LOCATION;VALUE=URI;X-ADDRESS=Umlag 1\, Leverkusen\, NRW\
 , 51371\, Deutschland;X-APPLE-RADIUS=100;X-TITLE=Hitdorfer See:geo:51.0702
 9,6.93137999999999
END:VEVENT
END:VCALENDAR